BEGIN:VCALENDAR
PRODID:PlannerXE123
VERSION:2.0
CALSCALE:GREGORIAN
METHOD:PUBLISH
BEGIN:VEVENT
DTSTART:20230122
DTEND:20230123
DTSTAMP:20260423T123105Z
UID:(dg.cathms.kr_495675)
CREATED:20260423T123105Z
DESCRIPTION:설명절 함동위령미사 오전 11시\n\n<a href="http://dg.cathms.kr/xe/board_ksvy69/495675?iCal=ics_event&document_srl=495675">원본일정</a>
LOCATION:
SEQUENCE:1
STATUS:CONFIRMED
SUMMARY:설 명절 합동미사 11시
TRANSP:TRANSPARENT
END:VEVENT
END:VCALENDAR
